BEGIN:VCALENDAR
VERSION:2.0
PRODID:TU Chemnitz
METHOD:PUBLISH
X-WR-CALNAME:Veranstaltungen der TU Chemnitz
X-WR-TIMEZONE:Europe/Berlin
BEGIN:VEVENT
CLASS:PUBLIC
DTSTART;TZID="Europe/Berlin":20121101T190000
DTEND;TZID="Europe/Berlin":20121101T210000
LOCATION:Reichenhainer Str. 70\, Chemnitz (Rühlmann-Bau)
SUMMARY:Holger Scholze @ TU-Chemnitz (studentischer Börsenverein Chemnitz e.V.)
DESCRIPTION:Der n-tv Börsenmoderator Holger Scholze kommt an die Universität und spricht über seine Erfahrungen an der Börse.\nHolger Scholze\nbv-vorstand@tu-chemnitz.de
ORGANIZER:MAILTO:robby.thiele@s2009.tu-chemnitz.de
UID:14574@www.tu-chemnitz.de
CREATED:20121005T113800Z
DTSTAMP:20210802T192054Z
END:VEVENT
END:VCALENDAR
