BEGIN:VCALENDAR
VERSION:2.0
PRODID:TU Chemnitz
METHOD:PUBLISH
X-WR-CALNAME:Veranstaltungen der TU Chemnitz
X-WR-TIMEZONE:Europe/Berlin
BEGIN:VEVENT
CLASS:PUBLIC
DTSTART;TZID="Europe/Berlin":20130123T171500
DTEND;TZID="Europe/Berlin":20130123T184500
LOCATION:Reichenhainer Str. 90\, Chemnitz (Zentr. Hörsaal- und Seminargebäude)
SUMMARY:Infoabend: Selbstmarketing im Internet (Career Service) (TU Chemnitz\, Career Service)
DESCRIPTION:Klassische und bereits etablierte Businessnetzwerke wie Xing gehören inzwischen zum Alltag von vielen Personalern\, aber auch andere Netzwerke wie Facebook gewinnen im Bewerbungsprozess zunehmend an Bedeutung.\nhttp://www.tu-chemnitz.de/career-service/veranstaltungen/infoabende.php
ORGANIZER:MAILTO:alexander.buettner@s2007.tu-chemnitz.de
UID:14572@www.tu-chemnitz.de
CREATED:20121004T143600Z
DTSTAMP:20210802T191824Z
END:VEVENT
END:VCALENDAR
