BEGIN:VCALENDAR
VERSION:2.0
PRODID:TU Chemnitz
METHOD:PUBLISH
X-WR-CALNAME:Veranstaltungen der TU Chemnitz
X-WR-TIMEZONE:Europe/Berlin
BEGIN:VEVENT
CLASS:PUBLIC
DTSTART;TZID="Europe/Berlin":20121025T171500
DTEND;TZID="Europe/Berlin":20121025T184500
LOCATION:Ebertstraße 10 / Raum 2/Eb8
SUMMARY:Infoabend: Studieren und Arbeiten in Tschechien (Career Service) (TU Chemnitz\, Career Service)
DESCRIPTION:Warum in die Ferne schweifen\, wenn man Auslandserfahrungen direkt vor der Haustür sammeln kann? Schwerpunkt dieses Infoabends ist unser Nachbarland Tschechien.\nhttp://www.tu-chemnitz.de/career-service/veranstaltungen/infoabende.php
ORGANIZER:MAILTO:alexander.buettner@s2007.tu-chemnitz.de
UID:14558@www.tu-chemnitz.de
CREATED:20121004T133000Z
DTSTAMP:20210802T192126Z
END:VEVENT
END:VCALENDAR
