BEGIN:VCALENDAR
VERSION:2.0
PRODID:TU Chemnitz
METHOD:PUBLISH
X-WR-CALNAME:Veranstaltungen der TU Chemnitz
X-WR-TIMEZONE:Europe/Berlin
BEGIN:VEVENT
CLASS:PUBLIC
DTSTART;TZID="Europe/Berlin":20130123T140000
DTEND;TZID="Europe/Berlin":20130123T160000
LOCATION:Chemnitz
SUMMARY:Exkursion: UNION Werkzeugmaschinen GmbH (Career Service) (TU Chemnitz\, Career Service)
DESCRIPTION:Dieses Exkursionsangebot ist besonders geeignet für Studierende folgender Fakultäten: Maschinenbau\, Elektro- und Informationstechnik\nhttp://www.tu-chemnitz.de/career-service/veranstaltungen/exkursionen.php
ORGANIZER:MAILTO:alexander.buettner@s2007.tu-chemnitz.de
UID:14554@www.tu-chemnitz.de
CREATED:20121004T105400Z
DTSTAMP:20210802T191828Z
END:VEVENT
END:VCALENDAR
