BEGIN:VCALENDAR
VERSION:2.0
PRODID:TU Chemnitz
METHOD:PUBLISH
X-WR-CALNAME:Veranstaltungen der TU Chemnitz
X-WR-TIMEZONE:Europe/Berlin
BEGIN:VEVENT
CLASS:PUBLIC
DTSTART;TZID="Europe/Berlin":20121120T080000
DTEND;TZID="Europe/Berlin":20121120T120000
LOCATION: Limbach-Oberfrohna 
SUMMARY:Exkursion: Continental Automotive GmbH (Career Service) (TU Chemnitz\, Career Service)
DESCRIPTION:Dieses Exkursionsangebot ist für Studierende aller Fakultäten geeignet. An- und Abreisezeiten werden noch bekannt gegeben.\nhttp://www.tu-chemnitz.de/career-service/veranstaltungen/exkursionen.php
ORGANIZER:MAILTO:alexander.buettner@s2007.tu-chemnitz.de
UID:14548@www.tu-chemnitz.de
CREATED:20121004T095800Z
DTSTAMP:20210802T192050Z
END:VEVENT
END:VCALENDAR
