BEGIN:VCALENDAR
VERSION:2.0
PRODID:TU Chemnitz
METHOD:PUBLISH
X-WR-CALNAME:Veranstaltungen der TU Chemnitz
X-WR-TIMEZONE:Europe/Berlin
BEGIN:VEVENT
CLASS:PUBLIC
DTSTART;TZID="Europe/Berlin":20121107T090000
DTEND;TZID="Europe/Berlin":20121107T130000
LOCATION:Freiberg
SUMMARY:Exkursion: Chemieanlagenbau Chemnitz GmbH (Career Service) (TU Chemnitz\, Career Service)
DESCRIPTION:Dieses Exkursionsangebot richtet sich an Studierende folgender Fakultäten: Maschinenbau\, Elektro- und Informationstechnik. An- und Abreisezeiten werden noch bekannt gegeben.\nhttp://www.tu-chemnitz.de/career-service/veranstaltungen/exkursionen.php
ORGANIZER:MAILTO:alexander.buettner@s2007.tu-chemnitz.de
UID:14546@www.tu-chemnitz.de
CREATED:20121004T094300Z
DTSTAMP:20210802T192042Z
END:VEVENT
END:VCALENDAR
