BEGIN:VCALENDAR
VERSION:2.0
PRODID:TU Chemnitz
METHOD:PUBLISH
X-WR-CALNAME:Veranstaltungen der TU Chemnitz
X-WR-TIMEZONE:Europe/Berlin
BEGIN:VEVENT
CLASS:PUBLIC
DTSTART;TZID="Europe/Berlin":20121128T173000
DTEND;TZID="Europe/Berlin":20121128T190000
LOCATION:Str. der Nationen 62\, Chemnitz (Böttcher-Bau)
SUMMARY:Medizin im Spannungsfeld zwischen Wissenschaft und Gesellschaft  (TU Chemnitz\, Chefarzt der Klinik für HNO-Heilkunde\, Kopf- und Halschirurgie der Klinikum Chemnitz gGmbH)
DESCRIPTION:Operation durch das Nasenloch – was ist möglich?\nChefarzt Prof. Dr. med. Oeken\nProf. Dr. med. Johannes Schweizer\, Tel.: 0371-333 42500
ORGANIZER:MAILTO:benjamin.lehnert@verwaltung.tu-chemnitz.de
UID:14524@www.tu-chemnitz.de
CREATED:20121001T094600Z
DTSTAMP:20210802T192045Z
END:VEVENT
END:VCALENDAR
