BEGIN:VCALENDAR
VERSION:2.0
PRODID:TU Chemnitz
METHOD:PUBLISH
X-WR-CALNAME:Veranstaltungen der TU Chemnitz
X-WR-TIMEZONE:Europe/Berlin
BEGIN:VEVENT
CLASS:PUBLIC
DTSTART;TZID="Europe/Berlin":20121024T173000
DTEND;TZID="Europe/Berlin":20121024T190000
LOCATION:Str. der Nationen 62\, Chemnitz (Böttcher-Bau)
SUMMARY:Medizin im Spannungsfeld zwischen Wissenschaft und Gesellschaft  (TU Chemnitz\, Klinik für Innere Medizin V der Klinikum Chemnitz gGmbH)
DESCRIPTION:Nierenkrank was nun?\nChefarzt Prof. Dr. Siepmann \nProf. Dr. med. Johannes Schweizer\, Tel.: 0371-333 42500
ORGANIZER:MAILTO:benjamin.lehnert@verwaltung.tu-chemnitz.de
UID:14523@www.tu-chemnitz.de
CREATED:20121001T094300Z
DTSTAMP:20210802T192123Z
END:VEVENT
END:VCALENDAR
