BEGIN:VCALENDAR
VERSION:2.0
PRODID:TU Chemnitz
METHOD:PUBLISH
X-WR-CALNAME:Veranstaltungen der TU Chemnitz
X-WR-TIMEZONE:Europe/Berlin
BEGIN:VEVENT
CLASS:PUBLIC
DTSTART;TZID="Europe/Berlin":20130319T090000
DTEND;TZID="Europe/Berlin":20130319T160000
LOCATION:wird noch bekannt gegeben
SUMMARY:Promotionsmanagement – Planung und Strukturierung des ersten großen Forschungsprojekts II (TU Chemnitz\, Forschungsakademie)
DESCRIPTION:Den Schwerpunkt bildet das Kennen lernen und Üben von Techniken zur Gesamtplanung der Promotion wie auch zur Strukturierung der täglichen Arbeit. Daran angeschlossen wird auf Möglichkeiten eingegangen\, Netzwerke zu bilden und Feedback zu erhalten.\nAlexander Egeling (freiberuflicher Dozent für Projekt-/ Promotionsmanagement)\nAnnett Schädlich\, annett.schaedlich@verwaltung.tu-chemnitz.de
ORGANIZER:MAILTO:nadine.graul@s2011.tu-chemnitz.de
UID:14509@www.tu-chemnitz.de
CREATED:20120930T113700Z
DTSTAMP:20210802T191520Z
END:VEVENT
END:VCALENDAR
