BEGIN:VCALENDAR
VERSION:2.0
PRODID:TU Chemnitz
METHOD:PUBLISH
X-WR-CALNAME:Veranstaltungen der TU Chemnitz
X-WR-TIMEZONE:Europe/Berlin
BEGIN:VEVENT
CLASS:PUBLIC
DTSTART;TZID="Europe/Berlin":20130107T090000
DTEND;TZID="Europe/Berlin":20130107T170000
LOCATION:wird noch bekannt gegeben
SUMMARY:Forschungsanträge professionell konzipieren I (TU Chemnitz\, Forschungsakademie)
DESCRIPTION:Dieses Seminar hat zum Ziel\, die Antragstellung stärker zu professionalisieren\, Tipps und Tricks zu vermitteln und im Endeffekt eine höhere Erfolgsbilanz zu erzielen.\nCornelia Borek (EU-Büro\, BMBF); Iris Löhrmann (Leiterin der berufsorientierten wissenschaftlichen Weiterbildung\, TU Berlin)\nAnnett Schädlich\, annett.schaedlich@verwaltung.tu-chemnitz.de
ORGANIZER:MAILTO:nadine.graul@s2011.tu-chemnitz.de
UID:14502@www.tu-chemnitz.de
CREATED:20120930T111200Z
DTSTAMP:20210802T191834Z
END:VEVENT
END:VCALENDAR
