BEGIN:VCALENDAR
VERSION:2.0
PRODID:TU Chemnitz
METHOD:PUBLISH
X-WR-CALNAME:Veranstaltungen der TU Chemnitz
X-WR-TIMEZONE:Europe/Berlin
BEGIN:VEVENT
CLASS:PUBLIC
DTSTART;TZID="Europe/Berlin":20121117T090000
DTEND;TZID="Europe/Berlin":20121117T170000
LOCATION:wird noch bekannt gegeben
SUMMARY:Ethische Konflikte im Forschungsalltag II (TU Chemnitz\, Forschungsakademie)
DESCRIPTION:Der Kurs vermittelt Ihnen spezifisch forschungsethisches Fachwissen und gibt Ihnen Raum zur Reflexion ihrer Werte und Haltungen als Wissenschaftler.\nDr. Gerlinde Sponholz (Privatdozentin am Institut für Medizin- und Organisationsethik)\nAnnett Schädlich\, annett.schaedlich@verwaltung.tu-chemnitz.de
ORGANIZER:MAILTO:nadine.graul@s2011.tu-chemnitz.de
UID:14501@www.tu-chemnitz.de
CREATED:20120930T110700Z
DTSTAMP:20210802T192051Z
END:VEVENT
END:VCALENDAR
