BEGIN:VCALENDAR
VERSION:2.0
PRODID:TU Chemnitz
METHOD:PUBLISH
X-WR-CALNAME:Veranstaltungen der TU Chemnitz
X-WR-TIMEZONE:Europe/Berlin
BEGIN:VEVENT
CLASS:PUBLIC
DTSTART;TZID="Europe/Berlin":20001231T200000
DTEND;TZID="Europe/Berlin":20001231T200000
LOCATION:PEB-Studentenkeller / RH 37
SUMMARY:Silvester im PEB-Studentenkeller
DESCRIPTION:Silvesterparty im PEB-Studentenkeller\nMusik mit DJ Guido\nKaltes Buffet\nEintritt 20\,- DM\n
ORGANIZER:MAILTO:nste@hrz.tu-chemnitz.de
UID:1450@www.tu-chemnitz.de
CREATED:20001204T134700Z
DTSTAMP:20210802T202838Z
END:VEVENT
END:VCALENDAR
