BEGIN:VCALENDAR
VERSION:2.0
PRODID:TU Chemnitz
METHOD:PUBLISH
X-WR-CALNAME:Veranstaltungen der TU Chemnitz
X-WR-TIMEZONE:Europe/Berlin
BEGIN:VEVENT
CLASS:PUBLIC
DTSTART;TZID="Europe/Berlin":20121017T171500
DTEND;TZID="Europe/Berlin":20121017T171500
LOCATION:Reichenhainer Str. 90\, Chemnitz (Zentr. Hörsaal- und Seminargebäude)
SUMMARY:Physikalisches Kolloquium (Fakultät für Naturwissenschaften\, Institut für Physik)
DESCRIPTION:Thema: "Hot Brownian Motion"\nProf. Dr. Klaus Kroy (Univ. Leipzig)\nProf. Dr. Ch. von Borczyskowski
ORGANIZER:MAILTO:evelin.straube@physik.tu-chemnitz.de
UID:14492@www.tu-chemnitz.de
CREATED:20120928T101500Z
DTSTAMP:20210802T192121Z
END:VEVENT
END:VCALENDAR
