BEGIN:VCALENDAR
VERSION:2.0
PRODID:TU Chemnitz
METHOD:PUBLISH
X-WR-CALNAME:Veranstaltungen der TU Chemnitz
X-WR-TIMEZONE:Europe/Berlin
BEGIN:VEVENT
CLASS:PUBLIC
DTSTART;TZID="Europe/Berlin":20010115T150000
DTEND;TZID="Europe/Berlin":20010115T190000
LOCATION:Uni-Teil 1: Str. der Nationen 62\, Chemnitz (Böttcher-Bau)
SUMMARY:Festkolloquium zu Ehren des 60. Geburtstags von Prof. Dr. Winfried Kalfa (Fakultät für Informatik)
DESCRIPTION:Alle Interessenten sind herzlich eingeladen! Nach den Vorträgen besteht die Gelegenheit\, den Anlass\nmit einem  Glas Sekt zu feiern.\nProf. Dr. P. Köchel (TU Chemnitz)\, Prof. Dr. L. Wolf (Universität Karlsruhe)\, Prof. Dr. G. Rünger (TU Chemnitz)\nkolloquium@informatik.tu-chemnitz.de
ORGANIZER:MAILTO:lro@informatik.tu-chemnitz.de
UID:1449@www.tu-chemnitz.de
CREATED:20001201T105300Z
DTSTAMP:20210802T202821Z
END:VEVENT
END:VCALENDAR
