BEGIN:VCALENDAR
VERSION:2.0
PRODID:TU Chemnitz
METHOD:PUBLISH
X-WR-CALNAME:Veranstaltungen der TU Chemnitz
X-WR-TIMEZONE:Europe/Berlin
BEGIN:VEVENT
CLASS:PUBLIC
DTSTART;TZID="Europe/Berlin":20130110T130000
DTEND;TZID="Europe/Berlin":20130110T190000
LOCATION:
SUMMARY:BWL kompakt für Nicht-Betriebswirte (TU Chemnitz\, Kompetenzschule)
DESCRIPTION:Führungskräfte verantworten häugig den wirtschaftlichen Erfolg. Grund genug sich mit Bilanzen\, Controlling und Kostenrechnung anhand von Praxisbeispielen\, Erfahrungen und Rechenübungen auseinanderzusetzen.Termine: 10.01.\, 24.01.\, 07.02.\, 21.02.13\nOnline-Anmeldung unter http://www.tu-chemnitz.de/fa/kompetenzschule/programm.php
ORGANIZER:MAILTO:carolin.lamm@verwaltung.tu-chemnitz.de
UID:14484@www.tu-chemnitz.de
CREATED:20120927T112500Z
DTSTAMP:20210802T191827Z
END:VEVENT
END:VCALENDAR
