BEGIN:VCALENDAR
VERSION:2.0
PRODID:TU Chemnitz
METHOD:PUBLISH
X-WR-CALNAME:Veranstaltungen der TU Chemnitz
X-WR-TIMEZONE:Europe/Berlin
BEGIN:VEVENT
CLASS:PUBLIC
DTSTART;TZID="Europe/Berlin":20130308T090000
DTEND;TZID="Europe/Berlin":20130308T160000
LOCATION:Reichenhainer Str. 31-33\, Kursraum der Kompetenzschule
SUMMARY:Die Führungskraft als Coach (TU Chemnitz\, Kompetenzschule)
DESCRIPTION:Der Workshop führt in die Grundlagen des Coachings als Methode zur gezielten Motivation ein. Es wird verdeutlicht\, wie Sie Ressourcen\, Potentiale und Eigenverantwortlichkeit von Mitarbeitern entwickeln und unterstützen können.\nOnline-Anmeldung unter http://www.tu-chemnitz.de/fa/kompetenzschule/programm.php
ORGANIZER:MAILTO:carolin.lamm@verwaltung.tu-chemnitz.de
UID:14481@www.tu-chemnitz.de
CREATED:20120927T110200Z
DTSTAMP:20210802T191522Z
END:VEVENT
END:VCALENDAR
