BEGIN:VCALENDAR
VERSION:2.0
PRODID:TU Chemnitz
METHOD:PUBLISH
X-WR-CALNAME:Veranstaltungen der TU Chemnitz
X-WR-TIMEZONE:Europe/Berlin
BEGIN:VEVENT
CLASS:PUBLIC
DTSTART;TZID="Europe/Berlin":20121112T090000
DTEND;TZID="Europe/Berlin":20121112T160000
LOCATION:Agentur für Arbeit Chemnitz
SUMMARY:Bewerberseminar – Arbeitgeberkontakte gezielt aufbauen (Agentur für Arbeit Chemnitz/Hochschulteam)
DESCRIPTION:Vorbereitung auf den ersten persönlichen Kontakt mit Ihrem zukünftigen Arbeitgeber (mit individuellem Übungsteil)\n Kathrin Hantschmann\, Coaching-Design-Training\nAnmeldung unter Chemnitz.Hochschulteam@arbeitsagentur.de
ORGANIZER:MAILTO:evelin.haeusler@verwaltung.tu-chemnitz.de
UID:14460@www.tu-chemnitz.de
CREATED:20120920T150200Z
DTSTAMP:20210802T192048Z
END:VEVENT
END:VCALENDAR
