BEGIN:VCALENDAR
VERSION:2.0
PRODID:TU Chemnitz
METHOD:PUBLISH
X-WR-CALNAME:Veranstaltungen der TU Chemnitz
X-WR-TIMEZONE:Europe/Berlin
BEGIN:VEVENT
CLASS:PUBLIC
DTSTART;TZID="Europe/Berlin":20121004T090000
DTEND;TZID="Europe/Berlin":20121004T110000
LOCATION:Str. der Nationen 62\, Chemnitz (Böttcher-Bau)
SUMMARY:Die Datenbank beck-online vom Fachmann erklärt (Universitätsbibliothek)
DESCRIPTION:Die Datenbank beck-online deckt die Rechtswissenschaft thematisch umfassend ab. Sie enthält Gesetzestexte\, aktuelle Urteile sowie ein großes Angebot juristischer Standardwerke. Im Anschluss an die Einführung beantwortet Herr Schossé gern Fragen.\nRechtsanwalt Thomas Schossé\, Beck-Verlag\, zuständig für Elektronische Publikationen. \nFrau Stanke\, Tel. 531-37817\,edith-maria.stanke@bibliothek.tu-chemnitz.de
ORGANIZER:MAILTO:ina.potts@bibliothek.tu-chemnitz.de
UID:14458@www.tu-chemnitz.de
CREATED:20120919T091200Z
DTSTAMP:20210802T192121Z
END:VEVENT
END:VCALENDAR
