BEGIN:VCALENDAR
VERSION:2.0
PRODID:TU Chemnitz
METHOD:PUBLISH
X-WR-CALNAME:Veranstaltungen der TU Chemnitz
X-WR-TIMEZONE:Europe/Berlin
BEGIN:VEVENT
CLASS:PUBLIC
DTSTART;TZID="Europe/Berlin":20010123T151500
DTEND;TZID="Europe/Berlin":20010123T151500
LOCATION:Uni-Teil 3: Reichenhainer Str. 70\, Chemnitz (Zentr. Hörsaal- und Seminargebäude)
SUMMARY:Leistungselektronik in der Kernfusion (Fakultät für Elektrotechnik und Informationstechnik)
DESCRIPTION:1.)Bedeutung der Leistungselektronik bei der Realisierung von Anlagen\n2.)Anwendung des rechnergestützten Entwurfs bei der Entwicklung von\nleistungselektronischen Systemen für Fusion\n3.)Rolle des Elektroingenieurs\nProf. Dipl.-Ing. Andreas Wieczorek\, Fachhochschule Regensburg\nmarcus.ziegler@e-technik.tu-chemnitz.de\, Tel.:531-3346
ORGANIZER:MAILTO:mazi@hrz.tu-chemnitz.de
UID:1444@www.tu-chemnitz.de
CREATED:20001127T142200Z
DTSTAMP:20210802T202822Z
END:VEVENT
END:VCALENDAR
