BEGIN:VCALENDAR
VERSION:2.0
PRODID:TU Chemnitz
METHOD:PUBLISH
X-WR-CALNAME:Veranstaltungen der TU Chemnitz
X-WR-TIMEZONE:Europe/Berlin
BEGIN:VEVENT
CLASS:PUBLIC
DTSTART;TZID="Europe/Berlin":20120927T130000
DTEND;TZID="Europe/Berlin":20120927T160000
LOCATION:Reichenhainer Str. 70\, Chemnitz (Rühlmann-Bau)
SUMMARY:Einführung in die Lernplattform OPAL für Lehrbeauftragte (Universitätsrechenzentrum)
DESCRIPTION:Praktische Schritte zur Lehrunterstützung durch die zentrale Lernplattform: Online-Einschreibung\, Skript-Bereitstellung mit Rechtevergabe usw. Für Dozenten oder Beauftragte\, die OPAL als Lernmanagement-Werkzeug kennenlernen und einsetzen möchten.\nFrank Richter\nAnmeldung via http://www.tu-chemnitz.de/e-learning/workshops.html#einf
ORGANIZER:MAILTO:frank.richter@hrz.tu-chemnitz.de
UID:14438@www.tu-chemnitz.de
CREATED:20120907T062100Z
DTSTAMP:20210802T192202Z
END:VEVENT
END:VCALENDAR
