BEGIN:VCALENDAR
VERSION:2.0
PRODID:TU Chemnitz
METHOD:PUBLISH
X-WR-CALNAME:Veranstaltungen der TU Chemnitz
X-WR-TIMEZONE:Europe/Berlin
BEGIN:VEVENT
CLASS:PUBLIC
DTSTART;VALUE=DATE:20130204
DTEND;VALUE=DATE:20130205
LOCATION:Reichenhainer Str. 90\, Chemnitz (Zentr. Hörsaal- und Seminargebäude)
SUMMARY:Wissenschaftliches Arbeiten (Philosophische Fakultät)
DESCRIPTION:Im Kurs sollen die Grundlagen wissenschaftlichen Arbeitens und Schreibens wiederholt und vertieft sowie aktuelle Probleme diskutiert und Hilfestellungen für anstehende Projekte gegeben werden. Bitte melden Sie sich per E-mail bis zum 25.01.2013 an.\nSara Rodefeld\nsara.rodefeld@phil.tu-chemnitz.de
ORGANIZER:MAILTO:sara.rodefeld@phil.tu-chemnitz.de
UID:14433@www.tu-chemnitz.de
CREATED:20120904T114200Z
DTSTAMP:20210802T191648Z
END:VEVENT
END:VCALENDAR
