BEGIN:VCALENDAR
VERSION:2.0
PRODID:TU Chemnitz
METHOD:PUBLISH
X-WR-CALNAME:Veranstaltungen der TU Chemnitz
X-WR-TIMEZONE:Europe/Berlin
BEGIN:VEVENT
CLASS:PUBLIC
DTSTART;TZID="Europe/Berlin":20001129T193000
DTEND;TZID="Europe/Berlin":20001129T193000
LOCATION:Uni-Teil 9: Wilhelm-Raabe-Str. 43\, Chemnitz
SUMMARY:Konzert mit Kompositionen von Volkmar Leimert an der TU  (Philosophische Fakultät\, Fachgebiet Musik\, Professur Instrumentalmusik II)
DESCRIPTION:Konzert anläßlich der Ehrung zum 60. Gerburtstag des Chemnitzer Komponisten Volkmar Leimert\nProf. Jürgen Golle\, Tel. 5 31-63 73
ORGANIZER:MAILTO:iroe@hrz.tu-chemnitz.de
UID:1442@www.tu-chemnitz.de
CREATED:20001124T111900Z
DTSTAMP:20210802T202852Z
END:VEVENT
END:VCALENDAR
