BEGIN:VCALENDAR
VERSION:2.0
PRODID:TU Chemnitz
METHOD:PUBLISH
X-WR-CALNAME:Veranstaltungen der TU Chemnitz
X-WR-TIMEZONE:Europe/Berlin
BEGIN:VEVENT
CLASS:PUBLIC
DTSTART;TZID="Europe/Berlin":20121206T150000
DTEND;TZID="Europe/Berlin":20121206T154500
LOCATION:Str. der Nationen 62\, Chemnitz (Böttcher-Bau)
SUMMARY:GDCh-Vortag im Rahmen des Stöckhardtkolloquiums: "Surface and Interface Properties of Ionic Liquids" (Fakultät für Naturwissenschaften\, Institut für Chemie zusammen mit der Geselschaft Deutscher Chemiker (GDCh))
DESCRIPTION:Prof. Dr. Hans-Peter Steinrück\, Lehrstuhl für Physikalische Chemie II\, Universität Erlangen-Nürnberg\nProf. Dr. Heinrich Lang\, Tel. 0371 / 531 21210\, Email: heinrich.lang@chemie.tu-chemnitz.de
ORGANIZER:MAILTO:natalia.rueffer@chemie.tu-chemnitz.de
UID:14407@www.tu-chemnitz.de
CREATED:20120801T144300Z
DTSTAMP:20210802T191956Z
END:VEVENT
END:VCALENDAR
