BEGIN:VCALENDAR
VERSION:2.0
PRODID:TU Chemnitz
METHOD:PUBLISH
X-WR-CALNAME:Veranstaltungen der TU Chemnitz
X-WR-TIMEZONE:Europe/Berlin
BEGIN:VEVENT
CLASS:PUBLIC
DTSTART;TZID="Europe/Berlin":20121101T160000
DTEND;TZID="Europe/Berlin":20121101T173000
LOCATION:Str. der Nationen 62\, Chemnitz (Böttcher-Bau)
SUMMARY:GDCh-Vortrag: "Supramolekulare Chemie mit Anionen" (Fakultät für Naturwissenschaften\, Institut für Chemie zusammen mit der Geselschaft Deutscher Chemiker (GDCh))
DESCRIPTION:Dr. Evgeny Kataev\, Juniorprofessur Supramolekulare Chemie\, TU Chemnitz\nProf. Dr. Heinrich Lang\, Tel. 0371 / 531 21210\, Email: heinrich.lang@chemie.tu-chemnitz.de
ORGANIZER:MAILTO:natalia.rueffer@chemie.tu-chemnitz.de
UID:14404@www.tu-chemnitz.de
CREATED:20120801T143400Z
DTSTAMP:20210802T192043Z
END:VEVENT
END:VCALENDAR
