BEGIN:VCALENDAR
VERSION:2.0
PRODID:TU Chemnitz
METHOD:PUBLISH
X-WR-CALNAME:Veranstaltungen der TU Chemnitz
X-WR-TIMEZONE:Europe/Berlin
BEGIN:VEVENT
CLASS:PUBLIC
DTSTART;TZID="Europe/Berlin":20120910T080000
DTEND;TZID="Europe/Berlin":20120921T160000
LOCATION:Erfenschlager Str. 73\, Chemnitz
SUMMARY:MTM-Basic-Kompaktseminar (Fakultät für Maschinenbau\, Professur Arbeitswissenschaft)
DESCRIPTION:Dr.-Ing. Ralph Hensel\nDr.-Ing. Thomas Löffler\, Tel. 36024\, thomas.loeffler@mb.tu-chemnitz.de
ORGANIZER:MAILTO:thomas.loeffler@mb.tu-chemnitz.de
UID:14401@www.tu-chemnitz.de
CREATED:20120730T091400Z
DTSTAMP:20210802T192159Z
END:VEVENT
END:VCALENDAR
