BEGIN:VCALENDAR
VERSION:2.0
PRODID:TU Chemnitz
METHOD:PUBLISH
X-WR-CALNAME:Veranstaltungen der TU Chemnitz
X-WR-TIMEZONE:Europe/Berlin
BEGIN:VEVENT
CLASS:PUBLIC
DTSTART;TZID="Europe/Berlin":20120724T210000
DTEND;TZID="Europe/Berlin":20120724T230000
LOCATION:Kino\, Reichenhainer Str. 35/37\, Keller
SUMMARY:[Campuskino * "mittendrin"] Sharayet - Eine Liebe in Teheran (filmclub »mittendrin«)
DESCRIPTION:Schließ die Augen und schau mich an. Lust und Liebe\, laszive Partys\, Sex und bigotte Moralpolizei im Iran. Ein Film\, den man kaum für möglich hält\, über eine verbotene Liebe in Teheran im Griff der Sittenwächter.\nfilmclub@tu-chemnitz.de
ORGANIZER:MAILTO:robert.gerstenberger@s2004.tu-chemnitz.de
UID:14390@www.tu-chemnitz.de
CREATED:20120711T184400Z
DTSTAMP:20210802T192232Z
END:VEVENT
END:VCALENDAR
