BEGIN:VCALENDAR
VERSION:2.0
PRODID:TU Chemnitz
METHOD:PUBLISH
X-WR-CALNAME:Veranstaltungen der TU Chemnitz
X-WR-TIMEZONE:Europe/Berlin
BEGIN:VEVENT
CLASS:PUBLIC
DTSTART;TZID="Europe/Berlin":20120712T153000
DTEND;TZID="Europe/Berlin":20120712T200000
LOCATION:Reichenhainer Str. 90\, Chemnitz (Zentr. Hörsaal- und Seminargebäude)
SUMMARY:"Research Day" der Fakultät ET/IT (Fakultät für Elektrotechnik und Informationstechnik\, org. Professur Kommunikationsnetze)
DESCRIPTION:The Research Day will present the research activities of our faculty presented by some Professors as well as some industrial research partners of the region.There will also be time for a bite to eat and for the networking with those research partners.\nThomas M. Knoll\, 33246\, knoll@etit.tu-chemnitz.de
ORGANIZER:MAILTO:knoll@etit.tu-chemnitz.de
UID:14387@www.tu-chemnitz.de
CREATED:20120710T162200Z
DTSTAMP:20210802T192227Z
END:VEVENT
END:VCALENDAR
