BEGIN:VCALENDAR
VERSION:2.0
PRODID:TU Chemnitz
METHOD:PUBLISH
X-WR-CALNAME:Veranstaltungen der TU Chemnitz
X-WR-TIMEZONE:Europe/Berlin
BEGIN:VEVENT
CLASS:PUBLIC
DTSTART;TZID="Europe/Berlin":20001128T160000
DTEND;TZID="Europe/Berlin":20001128T180000
LOCATION:Uni-Teil 3: Reichenhainer Str. 70\, Chemnitz (Zentr. Hörsaal- und Seminargebäude)
SUMMARY:SHEK und die Zukunft der TU Chemnitz (GEW-Verband Hochschule und Forschung Chemnitz)
DESCRIPTION:Öffentliche Mitgliederversammlung - Information und Diskussion
ORGANIZER:MAILTO:toste@hrz.tu-chemnitz.de
UID:1438@www.tu-chemnitz.de
CREATED:20001123T123600Z
DTSTAMP:20210802T202849Z
END:VEVENT
END:VCALENDAR
