BEGIN:VCALENDAR
VERSION:2.0
PRODID:TU Chemnitz
METHOD:PUBLISH
X-WR-CALNAME:Veranstaltungen der TU Chemnitz
X-WR-TIMEZONE:Europe/Berlin
BEGIN:VEVENT
CLASS:PUBLIC
DTSTART;TZID="Europe/Berlin":20120712T210000
DTEND;TZID="Europe/Berlin":20120712T230000
LOCATION:Kino\, Reichenhainer Str. 35/37\, Keller
SUMMARY:[Campuskino * "mittendrin"] Der Diktator (filmclub »mittendrin«)
DESCRIPTION:Beim Barte des Propheten! Semesterende = "mittendrin" goes Box-Office. Da kommt uns Guerillia-Komiker Sacha Baron Cohen gerade recht - diesmal als Operetten-Despot auf Staatsbesuch in New York. Lach Dich tot!\nfilmclub@tu-chemnitz.de
ORGANIZER:MAILTO:robert.gerstenberger@s2004.tu-chemnitz.de
UID:14346@www.tu-chemnitz.de
CREATED:20120630T232700Z
DTSTAMP:20210802T192237Z
END:VEVENT
END:VCALENDAR
