BEGIN:VCALENDAR
VERSION:2.0
PRODID:TU Chemnitz
METHOD:PUBLISH
X-WR-CALNAME:Veranstaltungen der TU Chemnitz
X-WR-TIMEZONE:Europe/Berlin
BEGIN:VEVENT
CLASS:PUBLIC
DTSTART;TZID="Europe/Berlin":20120710T210000
DTEND;TZID="Europe/Berlin":20120710T230000
LOCATION:Kino\, Reichenhainer Str. 35/37\, Keller
SUMMARY:[Campuskino * "mittendrin"] Our Idiot Brother (filmclub »mittendrin«)
DESCRIPTION:Das herzensgute Riesenbaby Ned stellt die wohlgeordneten Leben seiner Schwestern auf den Kopf. Wer den Dude mag\, wird auch an Ned seine helle Freude haben!\nfilmclub@tu-chemnitz.de
ORGANIZER:MAILTO:robert.gerstenberger@s2004.tu-chemnitz.de
UID:14345@www.tu-chemnitz.de
CREATED:20120630T232700Z
DTSTAMP:20210802T192238Z
END:VEVENT
END:VCALENDAR
