BEGIN:VCALENDAR
VERSION:2.0
PRODID:TU Chemnitz
METHOD:PUBLISH
X-WR-CALNAME:Veranstaltungen der TU Chemnitz
X-WR-TIMEZONE:Europe/Berlin
BEGIN:VEVENT
CLASS:PUBLIC
DTSTART;TZID="Europe/Berlin":20120703T210000
DTEND;TZID="Europe/Berlin":20120703T230000
LOCATION:Kino\, Reichenhainer Str. 35/37\, Keller
SUMMARY:[Campuskino * "mittendrin"] Monsieur Lazhar (filmclub »mittendrin«)
DESCRIPTION:Erich Kästner hätte seine helle Freude an diesem Aushilfslehrer! Seine Methoden mögen veraltet sein\, aber mit viel Optimismus\, Verständnis und Geduld gewinnt er das Vertrauen einer traumatisierten Grundschulklasse.\nfilmclub@tu-chemnitz.de
ORGANIZER:MAILTO:robert.gerstenberger@s2004.tu-chemnitz.de
UID:14343@www.tu-chemnitz.de
CREATED:20120630T232600Z
DTSTAMP:20210802T192231Z
END:VEVENT
END:VCALENDAR
