BEGIN:VCALENDAR
VERSION:2.0
PRODID:TU Chemnitz
METHOD:PUBLISH
X-WR-CALNAME:Veranstaltungen der TU Chemnitz
X-WR-TIMEZONE:Europe/Berlin
BEGIN:VEVENT
CLASS:PUBLIC
DTSTART;TZID="Europe/Berlin":20120628T190000
DTEND;TZID="Europe/Berlin":20120628T210000
LOCATION:Reichenhainer Str. 70\, Chemnitz (Weinhold-Bau)
SUMMARY:Die besondere Entwicklungshilfe der Sandipani Muni School in Vrindavan (Indien) (Indian Cultural Centre)
DESCRIPTION:Die Sandipani Muni School bietet ihren Schülern Nahrung\, Kleidung\, Trinkwasser und Schutz vor Kinderheirat. Mathias Biedenkopf stellt die Situation der Kinder in Vrindaven dar und gibt einen lebendigen Einblick in die verschiedenen Projekte der Schule.\nMathias Biedenkopf\ntom.wirkus@s2008.tu-chemnitz.de
ORGANIZER:MAILTO:tom.wirkus@s2008.tu-chemnitz.de
UID:14337@www.tu-chemnitz.de
CREATED:20120626T183500Z
DTSTAMP:20210802T192301Z
END:VEVENT
END:VCALENDAR
