BEGIN:VCALENDAR
VERSION:2.0
PRODID:TU Chemnitz
METHOD:PUBLISH
X-WR-CALNAME:Veranstaltungen der TU Chemnitz
X-WR-TIMEZONE:Europe/Berlin
BEGIN:VEVENT
CLASS:PUBLIC
DTSTART;TZID="Europe/Berlin":20120628T171500
DTEND;TZID="Europe/Berlin":20120628T171500
LOCATION:Reichenhainer Str. 90\, Chemnitz (Zentr. Hörsaal- und Seminargebäude)
SUMMARY:Öffentlicher Vortrag: "Birth\, Death\, and Flight: A Theory of Malthusian Flocks" (Fakultät für Naturwissenschaften\, Institut für Physik\, Professur Komplexe Systeme und Nichtlineare Dynamik)
DESCRIPTION:Der Vortrag (in Engl.) ist auch für eine breitere Öffentlichkeit gedachtund stellt neueste Erkenntnisse zum Schwarmverhalten von Vögeln\,Bakterien und Molekülen in lebenden Zellen vor\, die sogar zu neuartigenKrebstherapien führen können.\nProf. John J. Toner\, University of Oregon\, Eugene OR\, USA\nProf. Dr. Günter Radons\, Tel. 0371/531-33205\, Email: radons@physik.tu-chemnitz.de
ORGANIZER:MAILTO:a.gaida@physik.tu-chemnitz.de
UID:14326@www.tu-chemnitz.de
CREATED:20120621T092700Z
DTSTAMP:20210802T192301Z
END:VEVENT
END:VCALENDAR
