BEGIN:VCALENDAR
VERSION:2.0
PRODID:TU Chemnitz
METHOD:PUBLISH
X-WR-CALNAME:Veranstaltungen der TU Chemnitz
X-WR-TIMEZONE:Europe/Berlin
BEGIN:VEVENT
CLASS:PUBLIC
DTSTART;TZID="Europe/Berlin":20120917T090000
DTEND;TZID="Europe/Berlin":20120928T143000
LOCATION:Reichenhainer Str. 90\, Chemnitz (Zentr. Hörsaal- und Seminargebäude)
SUMMARY:Brückenkurs Mathematik/Physik (Fakultät für Naturwissenschaften\, Projekt Qualitätspakt Lehre)
DESCRIPTION:Der Brückenkurs richtet sich an Studienanfänger der Studiengänge Computational Science\, Physik sowie Sensorik und kognitive Psychologie und dient der Wiederholung und Auffrischung des Abiturwissens in den Bereichen Mathematik und Physik.\nRené Haber\nRené Haber\, rene.haber@physik.tu-chemnitz.de
ORGANIZER:MAILTO:nicole.saring@wirtschaft.tu-chemnitz.de
UID:14317@www.tu-chemnitz.de
CREATED:20120619T150100Z
DTSTAMP:20210802T192200Z
END:VEVENT
END:VCALENDAR
