BEGIN:VCALENDAR
VERSION:2.0
PRODID:TU Chemnitz
METHOD:PUBLISH
X-WR-CALNAME:Veranstaltungen der TU Chemnitz
X-WR-TIMEZONE:Europe/Berlin
BEGIN:VEVENT
CLASS:PUBLIC
DTSTART;TZID="Europe/Berlin":20120704T171500
DTEND;TZID="Europe/Berlin":20120704T183000
LOCATION:Reichenhainer Str. 90\, Chemnitz (Zentr. Hörsaal- und Seminargebäude)
SUMMARY:Physikalisches Kolloquium (Fakultät für Naturwissenschaften\, Institut für Physik)
DESCRIPTION:Thema: "Kohärente Kontrolle und Spektroskopie in der Nanooptik"\nProf. Dr. Walter Pfeiffer (Universität Bielefeld)\nProf. Dr. Robert Magerle
ORGANIZER:MAILTO:evelin.straube@physik.tu-chemnitz.de
UID:14308@www.tu-chemnitz.de
CREATED:20120618T104900Z
DTSTAMP:20210802T192241Z
END:VEVENT
END:VCALENDAR
