BEGIN:VCALENDAR
VERSION:2.0
PRODID:TU Chemnitz
METHOD:PUBLISH
X-WR-CALNAME:Veranstaltungen der TU Chemnitz
X-WR-TIMEZONE:Europe/Berlin
BEGIN:VEVENT
CLASS:PUBLIC
DTSTART;TZID="Europe/Berlin":20120619T171500
DTEND;TZID="Europe/Berlin":20120619T184500
LOCATION:Wilhelm-Raabe-Str. 43\, Chemnitz
SUMMARY:Institutskolloquium Psychologie (Fakultät für Human- und Sozialwissenschaften)
DESCRIPTION:"Mobbing als spezifisches Problem der Führung"\nDr. Jens Eisermann\, Institut für Psychologie\, TU Chemnitz\nSabine Dittrich\, 36313
ORGANIZER:MAILTO:sabine.dittrich@psychologie.tu-chemnitz.de
UID:14302@www.tu-chemnitz.de
CREATED:20120614T121300Z
DTSTAMP:20210802T192309Z
END:VEVENT
END:VCALENDAR
