BEGIN:VCALENDAR
VERSION:2.0
PRODID:TU Chemnitz
METHOD:PUBLISH
X-WR-CALNAME:Veranstaltungen der TU Chemnitz
X-WR-TIMEZONE:Europe/Berlin
BEGIN:VEVENT
CLASS:PUBLIC
DTSTART;TZID="Europe/Berlin":20120618T210000
DTEND;TZID="Europe/Berlin":20120618T230000
LOCATION:Kino\, Reichenhainer Str. 35/37\, Keller
SUMMARY:[Campuskino * "mittendrin"] mo-Doku: Work Hard - Play Hard (filmclub »mittendrin«)
DESCRIPTION:Carmen Losman hat einen entlarvenden\, kalten Film über moderne Arbeitswelten gedreht. Es geht um Effizienz\, der Mensch soll funktionieren\, sich an die ständig wechselnden Arbeitsbedingungen anpassen und möglichst reibungslos Ergebnisse liefern.\nfilmclub@tu-chemnitz.de
ORGANIZER:MAILTO:robert.gerstenberger@s2004.tu-chemnitz.de
UID:14286@www.tu-chemnitz.de
CREATED:20120609T220000Z
DTSTAMP:20210802T192253Z
END:VEVENT
END:VCALENDAR
