BEGIN:VCALENDAR
VERSION:2.0
PRODID:TU Chemnitz
METHOD:PUBLISH
X-WR-CALNAME:Veranstaltungen der TU Chemnitz
X-WR-TIMEZONE:Europe/Berlin
BEGIN:VEVENT
CLASS:PUBLIC
DTSTART;TZID="Europe/Berlin":20120607T210000
DTEND;TZID="Europe/Berlin":20120607T230000
LOCATION:Kino\, Reichenhainer Str. 35/37\, Keller
SUMMARY:[Campuskino * "mittendrin"] Was weg is\, is weg (filmclub »mittendrin«)
DESCRIPTION:Lukas will raus aus Bayern\, auf der "Rainbow Warrior" Walfänger stoppen! Doch bald merkt er\, dass die wirklich großen Krisen immer vor der eigenen Haustür passieren ... und dann ist da auch noch dieser herrenlose Unterarm\, den bestimmt jemand vermisst.\nfilmclub@tu-chemnitz.de
ORGANIZER:MAILTO:robert.gerstenberger@s2004.tu-chemnitz.de
UID:14264@www.tu-chemnitz.de
CREATED:20120605T043300Z
DTSTAMP:20210802T192253Z
END:VEVENT
END:VCALENDAR
