BEGIN:VCALENDAR
VERSION:2.0
PRODID:TU Chemnitz
METHOD:PUBLISH
X-WR-CALNAME:Veranstaltungen der TU Chemnitz
X-WR-TIMEZONE:Europe/Berlin
BEGIN:VEVENT
CLASS:PUBLIC
DTSTART;TZID="Europe/Berlin":20120605T210000
DTEND;TZID="Europe/Berlin":20120605T230000
LOCATION:Kino\, Reichenhainer Str. 35/37\, Keller
SUMMARY:[Campuskino * "mittendrin"] Hinter der Tür (filmclub »mittendrin«)
DESCRIPTION:Die Schriftstellerin Magda trifft im Budapest der 60er auf eine verschlossene\, fast schon bedrohliche Haushälterin\, die ein dunkles Geheimnis hütet. Magdas Neugier ist geweckt...\nfilmclub@tu-chemnitz.de
ORGANIZER:MAILTO:robert.gerstenberger@s2004.tu-chemnitz.de
UID:14263@www.tu-chemnitz.de
CREATED:20120605T043200Z
DTSTAMP:20210802T192308Z
END:VEVENT
END:VCALENDAR
