BEGIN:VCALENDAR
VERSION:2.0
PRODID:TU Chemnitz
METHOD:PUBLISH
X-WR-CALNAME:Veranstaltungen der TU Chemnitz
X-WR-TIMEZONE:Europe/Berlin
BEGIN:VEVENT
CLASS:PUBLIC
DTSTART;TZID="Europe/Berlin":20120608T090000
DTEND;TZID="Europe/Berlin":20120608T133000
LOCATION:Wilhelm-Raabe-Str. 43\, Chemnitz
SUMMARY:Berufungsvorträge (Teil2) (Fakultät für Human- und Sozialwissenschaften)
DESCRIPTION:Öffentliche Vorträge der Bewerberinnen und Bewerber um die Neubesetzung der W2-Professur "Persönlichkeitspsychologie und Diagnostik"\ndekanat@hsw.tu-chemnitz.de
ORGANIZER:MAILTO:detlef.bergmann@psychologie.tu-chemnitz.de
UID:14261@www.tu-chemnitz.de
CREATED:20120604T141000Z
DTSTAMP:20210802T192300Z
END:VEVENT
END:VCALENDAR
