BEGIN:VCALENDAR
VERSION:2.0
PRODID:TU Chemnitz
METHOD:PUBLISH
X-WR-CALNAME:Veranstaltungen der TU Chemnitz
X-WR-TIMEZONE:Europe/Berlin
BEGIN:VEVENT
CLASS:PUBLIC
DTSTART;TZID="Europe/Berlin":20001220T180000
DTEND;TZID="Europe/Berlin":20001220T200000
LOCATION:Uni-Teil 1: Str. der Nationen 62\, Chemnitz (Böttcher-Bau)
SUMMARY:TeX-Stammtisch (TU Chemnitz)
DESCRIPTION:Monatlicher Erfahrungsaustausch zu allen Problemen rund um (La)TeX\nThema dieses Treffens: Mathematiksatz\nReferent: Wolfgang Fleischer
ORGANIZER:MAILTO:wri@hrz.tu-chemnitz.de
UID:1426@www.tu-chemnitz.de
CREATED:20001116T094300Z
DTSTAMP:20210802T202833Z
END:VEVENT
END:VCALENDAR
