BEGIN:VCALENDAR
VERSION:2.0
PRODID:TU Chemnitz
METHOD:PUBLISH
X-WR-CALNAME:Veranstaltungen der TU Chemnitz
X-WR-TIMEZONE:Europe/Berlin
BEGIN:VEVENT
CLASS:PUBLIC
DTSTART;TZID="Europe/Berlin":20120604T200000
DTEND;TZID="Europe/Berlin":20120604T220000
LOCATION:Thüringer Weg 9\, Chemnitz
SUMMARY:Hörspielnacht - "Die Drei ???" (Philosophische Fakultät\, Fachschaftsrat)
DESCRIPTION:Im Rahmen der FSR Phil CampusKulturWoche findet wieder einmal die Hörspielnacht mit "Die Drei ???" statt. Die Veranstaltung findet jedoch nur bei trockenem Wetter statt und Interessenten sind gebeten\, sich eine Decke oder Sitzgelegenheiten mitzubringen.\nfsrphil@tu-chemnitz.de
ORGANIZER:MAILTO:florian.melcher@s2008.tu-chemnitz.de
UID:14254@www.tu-chemnitz.de
CREATED:20120601T152400Z
DTSTAMP:20210802T192305Z
END:VEVENT
END:VCALENDAR
