BEGIN:VCALENDAR
VERSION:2.0
PRODID:TU Chemnitz
METHOD:PUBLISH
X-WR-CALNAME:Veranstaltungen der TU Chemnitz
X-WR-TIMEZONE:Europe/Berlin
BEGIN:VEVENT
CLASS:PUBLIC
DTSTART;VALUE=DATE:20010625
DTEND;TZID="Europe/Berlin":20010628T120000
LOCATION:Renaissance Hotel Chemnitz
SUMMARY:11. Tagung Festkörperanalytik FKA 2001 (Fakultät für Naturwissenschaften\, Institut für Chemie)
DESCRIPTION:Seit 1992 findet im zweijährigen Abstand abwechselnd in Chemnitz und in Wien die aus der Zusammenführung zweier Tagungsreihen hervorgegange internationale Tagung "Festkörperanalytik" statt.\nDr. Baumann +49-(0)371-531-1294
ORGANIZER:MAILTO:engisch@chemie.tu-chemnitz.de
UID:1425@www.tu-chemnitz.de
CREATED:20001116T082500Z
DTSTAMP:20210802T202727Z
END:VEVENT
END:VCALENDAR
