BEGIN:VCALENDAR
VERSION:2.0
PRODID:TU Chemnitz
METHOD:PUBLISH
X-WR-CALNAME:Veranstaltungen der TU Chemnitz
X-WR-TIMEZONE:Europe/Berlin
BEGIN:VEVENT
CLASS:PUBLIC
DTSTART;TZID="Europe/Berlin":20120531T140000
DTEND;TZID="Europe/Berlin":20120531T170000
LOCATION:Pegasus-Center\, Chemnitz
SUMMARY:Workshop - Wirtschaftlicher Nutzen gewerblicher Schutzrechte (Fakultät für Wirtschaftswissenschaften\, Professur für Marketing und Handelsbetriebslehre)
DESCRIPTION:2-tägiger WS (insb. auch f. wiss. MA)\, der Grundkenntnisse zu gewerblichen Schutzrechten vermittelt. Dabei profitieren die Teilnehmer von den langjährigen praktischen Erfahrungen des Referenten im nationalen und internat. gewerblichen Rechtsschutz.\nDr. Klaus Schieschke\nSusanne Schübel\, 19997\, susanne.schuebel@saxeed.net
ORGANIZER:MAILTO:susanne.schuebel@wirtschaft.tu-chemnitz.de
UID:14243@www.tu-chemnitz.de
CREATED:20120525T173700Z
DTSTAMP:20210802T192350Z
END:VEVENT
END:VCALENDAR
