BEGIN:VCALENDAR
VERSION:2.0
PRODID:TU Chemnitz
METHOD:PUBLISH
X-WR-CALNAME:Veranstaltungen der TU Chemnitz
X-WR-TIMEZONE:Europe/Berlin
BEGIN:VEVENT
CLASS:PUBLIC
DTSTART;TZID="Europe/Berlin":20120524T104500
DTEND;TZID="Europe/Berlin":20120524T121500
LOCATION:Str. der Nationen 62\, Chemnitz (Böttcher-Bau)
SUMMARY:Informatik-Kolloquium (Fakultät für Informatik\, Professur Theoretische Informatik)
DESCRIPTION:Vortrag zum Thema: Laplace Operatoren auf Hypergraphen\nHerr Peter Gmeiner\ndekanat@informatik.tu-chemnitz.de
ORGANIZER:MAILTO:ulrike.luthe@informatik.tu-chemnitz.de
UID:14234@www.tu-chemnitz.de
CREATED:20120522T112700Z
DTSTAMP:20210802T192349Z
END:VEVENT
END:VCALENDAR
