BEGIN:VCALENDAR
VERSION:2.0
PRODID:TU Chemnitz
METHOD:PUBLISH
X-WR-CALNAME:Veranstaltungen der TU Chemnitz
X-WR-TIMEZONE:Europe/Berlin
BEGIN:VEVENT
CLASS:PUBLIC
DTSTART;TZID="Europe/Berlin":20120626T171500
DTEND;TZID="Europe/Berlin":20120626T184500
LOCATION:Wilhelm-Raabe-Str. 43\, Chemnitz
SUMMARY:Institutskolloquium Psychologie (Fakultät für Human- und Sozialwissenschaften)
DESCRIPTION:"Basal Ganglia and interval timing: from the striatal-beat frequency model to motivated behaviour"\nDr. Julien Vitay\, TU Chemnitz\, Fakultät für Informatik\nSabine Dittrich\, Tel. 36313
ORGANIZER:MAILTO:sabine.dittrich@psychologie.tu-chemnitz.de
UID:14233@www.tu-chemnitz.de
CREATED:20120522T091700Z
DTSTAMP:20210802T192310Z
END:VEVENT
END:VCALENDAR
