BEGIN:VCALENDAR
VERSION:2.0
PRODID:TU Chemnitz
METHOD:PUBLISH
X-WR-CALNAME:Veranstaltungen der TU Chemnitz
X-WR-TIMEZONE:Europe/Berlin
BEGIN:VEVENT
CLASS:PUBLIC
DTSTART;TZID="Europe/Berlin":20120614T190000
DTEND;TZID="Europe/Berlin":20120614T203000
LOCATION:Reichenhainer Str. 70\, Chemnitz (Weinhold-Bau)
SUMMARY:Infoabend: Studying and Working Abroad: Auslandserfahrungen von TU Chemnitz AbsolventInnen (Career Service) (TU Chemnitz\, Career Service)
DESCRIPTION:http://www.tu-chemnitz.de/career-service/veranstaltungen/infoabende.php
ORGANIZER:MAILTO:alexander.buettner@s2007.tu-chemnitz.de
UID:14216@www.tu-chemnitz.de
CREATED:20120515T162300Z
DTSTAMP:20210802T192306Z
END:VEVENT
END:VCALENDAR
