BEGIN:VCALENDAR
VERSION:2.0
PRODID:TU Chemnitz
METHOD:PUBLISH
X-WR-CALNAME:Veranstaltungen der TU Chemnitz
X-WR-TIMEZONE:Europe/Berlin
BEGIN:VEVENT
CLASS:PUBLIC
DTSTART;TZID="Europe/Berlin":20001128T173000
DTEND;TZID="Europe/Berlin":20001128T190000
LOCATION:Uni-Teil 1: Str. der Nationen 62\, Chemnitz (Böttcher-Bau)
SUMMARY:UNIX-Stammtisch in Sachsen (Universitätsrechenzentrum)
DESCRIPTION:Firma pro et con GmbH stellt sich vor\nDr. Uwe Kaier\, Uwe Erdmenger (pro et con GmbH)
ORGANIZER:MAILTO:imu@hrz.tu-chemnitz.de
UID:1421@www.tu-chemnitz.de
CREATED:20001113T130900Z
DTSTAMP:20210802T202850Z
END:VEVENT
END:VCALENDAR
