BEGIN:VCALENDAR
VERSION:2.0
PRODID:TU Chemnitz
METHOD:PUBLISH
X-WR-CALNAME:Veranstaltungen der TU Chemnitz
X-WR-TIMEZONE:Europe/Berlin
BEGIN:VEVENT
CLASS:PUBLIC
DTSTART;TZID="Europe/Berlin":20120712T100000
DTEND;TZID="Europe/Berlin":20120712T130000
LOCATION:Amazonstr. 1\, 04347 Leipzig
SUMMARY:Exkursion: Amazon Distribution GmbH (Career Service) (TU Chemnitz\, Career Service)
DESCRIPTION:http://www.tu-chemnitz.de/career-service/veranstaltungen/exkursionen.php
ORGANIZER:MAILTO:alexander.buettner@s2007.tu-chemnitz.de
UID:14208@www.tu-chemnitz.de
CREATED:20120515T153200Z
DTSTAMP:20210802T192236Z
END:VEVENT
END:VCALENDAR
