BEGIN:VCALENDAR
VERSION:2.0
PRODID:TU Chemnitz
METHOD:PUBLISH
X-WR-CALNAME:Veranstaltungen der TU Chemnitz
X-WR-TIMEZONE:Europe/Berlin
BEGIN:VEVENT
CLASS:PUBLIC
DTSTART;TZID="Europe/Berlin":20120530T130000
DTEND;TZID="Europe/Berlin":20120530T160000
LOCATION:Str. der Nationen 62\, Chemnitz (Böttcher-Bau)
SUMMARY:E-Learning-Workshop: "Multimedia in der Lehre" (Universitätsrechenzentrum)
DESCRIPTION:Demonstration diverser Möglichkeiten von Video- und Webkonferenzen zur Bereicherung von Vorlesungen\, Seminaren: für die Kommunikation mit Studierenden und Forschungspartnern ...\nDipl.-Inf. Frank Richter\, Yvonne Mußmacher\nüber den URL zur Veranstaltung
ORGANIZER:MAILTO:rosita.pudlat@hrz.tu-chemnitz.de
UID:14194@www.tu-chemnitz.de
CREATED:20120510T092800Z
DTSTAMP:20210802T192345Z
END:VEVENT
END:VCALENDAR
